BEGIN:VCALENDAR
PRODID:-//eluceo/ical//2.0/EN
VERSION:2.0
CALSCALE:GREGORIAN
BEGIN:VEVENT
UID:event-808
DTSTAMP:20260425T180922Z
SUMMARY:Internal Event: Fun Park
DESCRIPTION:Date: Friday\, 8 May | 09:00 AM – 06:00 PM Venue: Phantasia
 land Address: Berggeiststraße 31–41\, Brühl\, Germany Ready for a day
  full of thrills\, laughter\, and unforgettable rides? 🎢🔥 Then this 
 is the event for you! The Internal Committee is excited to take you on an
  epic day trip to Phantasialand – one of Germany’s most exciting theme
  parks! From high-speed roller coasters to immersive themed worlds\, this 
 is your chance to escape reality and dive straight into adventure. 🌍✨
  We’ll be heading out by minibus at 9:00 AM sharp. You’ll have the wh
 ole day to explore\, ride\, eat\, and enjoy however you like before we hea
 d back at 6:00 PM. 🚍 ⚠️ Spots are limited to just 20 people\, so do
 n’t wait too long to sign up! Price: €29.99 per person Whether you're 
 a thrill-seeker or just in it for the vibes\, this trip is guaranteed to b
 e so much fun! 🎉 Don’t miss out – grab your spot and get ready for 
 an amazing day! See you there! 😄 The Internal Committee     Tickets c
 an be cancelled until the first of May\, subject to a 3€ cancellation fe
 e
DTSTART:20260508T080000Z
DTEND:20260508T115959Z
LOCATION:Phantasia Land
END:VEVENT
BEGIN:VTIMEZONE
TZID:UTC
BEGIN:STANDARD
DTSTART:20260508T080000
TZNAME:UTC
TZOFFSETTO:+0000
TZOFFSETFROM:+0000
END:STANDARD
END:VTIMEZONE
END:VCALENDAR
